BEGIN:VCALENDAR
VERSION:2.0
PRODID:-//Denver&#039;s Perfect 10 - ECPv6.15.17.1//NONSGML v1.0//EN
CALSCALE:GREGORIAN
METHOD:PUBLISH
X-ORIGINAL-URL:https://www.denverperfect10.com
X-WR-CALDESC:Events for Denver&#039;s Perfect 10
REFRESH-INTERVAL;VALUE=DURATION:PT1H
X-Robots-Tag:noindex
X-PUBLISHED-TTL:PT1H
BEGIN:VTIMEZONE
TZID:America/Denver
BEGIN:DAYLIGHT
TZOFFSETFROM:-0700
TZOFFSETTO:-0600
TZNAME:MDT
DTSTART:20230312T090000
END:DAYLIGHT
BEGIN:STANDARD
TZOFFSETFROM:-0600
TZOFFSETTO:-0700
TZNAME:MST
DTSTART:20231105T080000
END:STANDARD
BEGIN:DAYLIGHT
TZOFFSETFROM:-0700
TZOFFSETTO:-0600
TZNAME:MDT
DTSTART:20240310T090000
END:DAYLIGHT
BEGIN:STANDARD
TZOFFSETFROM:-0600
TZOFFSETTO:-0700
TZNAME:MST
DTSTART:20241103T080000
END:STANDARD
BEGIN:DAYLIGHT
TZOFFSETFROM:-0700
TZOFFSETTO:-0600
TZNAME:MDT
DTSTART:20250309T090000
END:DAYLIGHT
BEGIN:STANDARD
TZOFFSETFROM:-0600
TZOFFSETTO:-0700
TZNAME:MST
DTSTART:20251102T080000
END:STANDARD
BEGIN:DAYLIGHT
TZOFFSETFROM:-0700
TZOFFSETTO:-0600
TZNAME:MDT
DTSTART:20260308T090000
END:DAYLIGHT
BEGIN:STANDARD
TZOFFSETFROM:-0600
TZOFFSETTO:-0700
TZNAME:MST
DTSTART:20261101T080000
END:STANDARD
END:VTIMEZONE
BEGIN:VEVENT
DTSTART;TZID=America/Denver:20241212T123000
DTEND;TZID=America/Denver:20241212T140000
DTSTAMP:20260422T024216
CREATED:20241105T104650Z
LAST-MODIFIED:20241105T104650Z
UID:4094-1734006600-1734012000@www.denverperfect10.com
SUMMARY:Coffee & Conversation
DESCRIPTION:Grab a cup and connect with Councilman Chris Hinds and neighbors from District 10! Councilman Chris Hinds District 10 office hosts monthly Coffee and Conversation gatherings. This is a great opportunity to share ideas\, ask questions or simply connect over a cup of coffee. Councilman Hinds and his team are here to listen\, discuss neighborhood concerns and gather insights to make the community stronger. Stop by and chat with us about what matters to you in District 10—we look forward to seeing you there!
URL:https://www.denverperfect10.com/event/thursday-december-12-at-secret-garden-1290-n-williams-st/
ATTACH;FMTTYPE=:
END:VEVENT
BEGIN:VEVENT
DTSTART;TZID=America/Denver:20250123T123000
DTEND;TZID=America/Denver:20250123T140000
DTSTAMP:20260422T024216
CREATED:20250113T150419Z
LAST-MODIFIED:20250113T150419Z
UID:4380-1737635400-1737640800@www.denverperfect10.com
SUMMARY:Coffee & Conversation
DESCRIPTION:Grab a cup and connect with Councilman Chris Hinds and neighbors from District 10! Councilman Chris Hinds District 10 office hosts monthly Coffee and Conversation gatherings. This is a great opportunity to share ideas\, ask questions or simply connect over a cup of coffee. Councilman Hinds and his team are here to listen\, discuss neighborhood concerns and gather insights to make the community stronger. Stop by and chat with us about what matters to you in District 10—we look forward to seeing you there!
URL:https://www.denverperfect10.com/event/thursday-january-23-at-colfax-and-cream-1100-broadway/
END:VEVENT
BEGIN:VEVENT
DTSTART;TZID=America/Denver:20250211T180000
DTEND;TZID=America/Denver:20250211T190000
DTSTAMP:20260422T024216
CREATED:20250130T133937Z
LAST-MODIFIED:20250130T133937Z
UID:4397-1739296800-1739300400@www.denverperfect10.com
SUMMARY:Virtual District 10 Safety Town Hall
DESCRIPTION:Council Member Chris Hinds invites all District 10 residents to attend a Virtual Safety Town Hall on Tuesday\, February 11. This event will focus on public safety resources and services available to ensure the safety and well-being of Denver residents. \n  \nAttendees will have the chance to learn about the ongoing efforts of key public safety leaders\, including the Denver Police Department\, the Support Team Assisted Response (STAR) Program\, Denver Health Mobile Crisis\, and other vital community organizations. \n  \nTo ensure this town hall is as informative and resourceful as possible\, questions must be submitted in advance. Submitted questions will be consolidated to allow panelists to cover the most recurring questions or topics and provide clear\, actionable answers. \n  \nQuestions must be submitted by 5 p.m. on Monday\, February 3. To submit questions\, visit: https://www.surveymonkey.com/r/T3SDNKX \n  \nRegistration for this event is required. Register today by visiting: https://denvergov-org.zoom.us/webinar/register/WN_Xxa6dNK_QDmOl0NEd-axyg#/registration
URL:https://www.denverperfect10.com/event/virtual-district-10-safety-town-hall/
END:VEVENT
BEGIN:VEVENT
DTSTART;TZID=America/Denver:20250220T123000
DTEND;TZID=America/Denver:20250220T140000
DTSTAMP:20260422T024216
CREATED:20250113T150657Z
LAST-MODIFIED:20250113T150657Z
UID:4384-1740054600-1740060000@www.denverperfect10.com
SUMMARY:Coffee & Conversation
DESCRIPTION:Grab a cup and connect with Councilman Chris Hinds and neighbors from District 10! Councilman Chris Hinds District 10 office hosts monthly Coffee and Conversation gatherings. This is a great opportunity to share ideas\, ask questions or simply connect over a cup of coffee. Councilman Hinds and his team are here to listen\, discuss neighborhood concerns and gather insights to make the community stronger. Stop by and chat with us about what matters to you in District 10—we look forward to seeing you there!
URL:https://www.denverperfect10.com/event/thursday-february-20-at-the-populus-hotel-240-14th-st/
END:VEVENT
BEGIN:VEVENT
DTSTART;TZID=America/Denver:20250320T173000
DTEND;TZID=America/Denver:20250320T183000
DTSTAMP:20260422T024216
CREATED:20250303T023451Z
LAST-MODIFIED:20250303T023451Z
UID:4413-1742491800-1742495400@www.denverperfect10.com
SUMMARY:Sip ‘N Chat with Chris
DESCRIPTION:Sip ‘N Chat with Chris provides an opportunity for residents to connect with Councilman Hinds\, share feedback\, and discuss issues important to them. Registration for this event is required. To register\, visit https://www.surveymonkey.com/r/LBTSXZF.
URL:https://www.denverperfect10.com/event/sip-n-chat-with-chris/
END:VEVENT
BEGIN:VEVENT
DTSTART;TZID=America/Denver:20250626T123000
DTEND;TZID=America/Denver:20250626T140000
DTSTAMP:20260422T024216
CREATED:20250611T180132Z
LAST-MODIFIED:20250611T180132Z
UID:4456-1750941000-1750946400@www.denverperfect10.com
SUMMARY:Coffee & Conversation
DESCRIPTION:Grab a cup and connect with Councilman Chris Hinds and neighbors from District 10! Councilman Chris Hinds District 10 office hosts monthly Coffee and Conversation gatherings. This is a great opportunity to share ideas\, ask questions or simply connect over a cup of coffee. Councilman Hinds and his team are here to listen\, discuss neighborhood concerns and gather insights to make the community stronger. Stop by and chat with us about what matters to you in District 10—we look forward to seeing you there!
URL:https://www.denverperfect10.com/event/coffee-conversation/
END:VEVENT
BEGIN:VEVENT
DTSTART;TZID=America/Denver:20250724T123000
DTEND;TZID=America/Denver:20250724T140000
DTSTAMP:20260422T024216
CREATED:20250712T001851Z
LAST-MODIFIED:20250712T001851Z
UID:4481-1753360200-1753365600@www.denverperfect10.com
SUMMARY:Coffee & Conversation
DESCRIPTION:Grab a cup and connect with Councilman Chris Hinds and neighbors from District 10! Councilman Chris Hinds District 10 office hosts monthly Coffee and Conversation gatherings. This is a great opportunity to share ideas\, ask questions or simply connect over a cup of coffee. Councilman Hinds and his team are here to listen\, discuss neighborhood concerns and gather insights to make the community stronger. Stop by and chat with us about what matters to you in District 10—we look forward to seeing you there!
URL:https://www.denverperfect10.com/event/coffee-conversation-2/
LOCATION:chris@chrishinds.com
END:VEVENT
END:VCALENDAR